BEGIN:VCALENDAR
VERSION:2.0
PRODID:-//ChamberMaster//Event Calendar 2.0//EN
METHOD:PUBLISH
X-PUBLISHED-TTL:P3D
REFRESH-INTERVAL:P3D
CALSCALE:GREGORIAN
BEGIN:VEVENT
DTSTART:20130221T153000Z
DTEND:20130221T170000Z
X-MICROSOFT-CDO-ALLDAYEVENT:FALSE
SUMMARY:Renaissance Consignment Boutique
DESCRIPTION:Renaissance Consignment Boutique is celebrating the addition to their business. They will now be selling furniture as well as clothes\, accessories\, formal gowns\, and much more!
X-ALT-DESC;FMTTYPE=text/html:Renaissance Consignment Boutique is celebrating the addition to their business. They will now be selling furniture as well as clothes\, accessories\, formal gowns\, and much more! 
LOCATION:6801 Cahaba Valley Road Birmingham\, AL 35242
UID:e.145.4537
SEQUENCE:3
DTSTAMP:20260424T170824Z
URL:https://business.shelbychamber.org/events/details/renaissance-consignment-boutique-02-21-2013-4537
END:VEVENT

END:VCALENDAR
