BEGIN:VCALENDAR
VERSION:2.0
PRODID:-//ChamberMaster//Event Calendar 2.0//EN
METHOD:PUBLISH
X-PUBLISHED-TTL:P3D
REFRESH-INTERVAL:P3D
CALSCALE:GREGORIAN
BEGIN:VEVENT
DTSTART:20120730T150000Z
DTEND:20120804T230000Z
X-MICROSOFT-CDO-ALLDAYEVENT:FALSE
SUMMARY:Renaissance Consignment Boutique's BIG BLOWOUT SALE
DESCRIPTION:It's that time again....\n\nfor our BIGGEST SALE of the year!\n\n\n\nMonday - Wednesday (July 30 - Aug 1) : SAVE 50% OFF\n\n\n\nThursday (Aug 2) : SAVE  60% OFF\n\n\n\n*Friday (Aug 3) : SAVE 70% OFF\n\n\n\n*Saturday (Aug 4) : SAVE 80% OFF\n\n\n\n**Also\, enjoy tax-free shopping all day Friday & Saturday.\n\n\n\n**Discount taken off oringal consigned price of the following tag colors : dark blue\, orange\, pink\, dark green\, light blue\, red\, teal\, and yellow.
X-ALT-DESC;FMTTYPE=text/html:<em><span style="font-size: 22px">It&#39\;s that time again....<br />\nfor our BIGGEST SALE of the year!</span></em><br />\n<br />\n<span style="font-size: 20px"><span style="color: #ff0000">Monday - Wednesday (July 30 - Aug 1) : <strong>SAVE 50% OFF</strong></span><br />\n<br />\n<span style="color: #0000ff">Thursday (Aug 2) : <strong>SAVE&nbsp\; 60% OFF</strong></span><br />\n<br />\n<span style="color: #008000">*Friday (Aug 3) : <strong>SAVE 70% OFF</strong></span><br />\n<br />\n<span style="color: #800080">*Saturday (Aug 4) : <strong>SAVE 80% OFF</strong></span></span><br />\n<br />\n<span style="font-size: 16px">**Also\, enjoy tax-free shopping all day Friday &amp\; Saturday.<br />\n<br />\n**Discount taken off oringal consigned price of the following tag colors : dark blue\, orange\, pink\, dark green\, light blue\, red\, teal\, and yellow.</span>
LOCATION:Renaissance Consignment Boutique 6801 Cahaba Valley Road Birmingham\, AL 35242
UID:e.145.4278
SEQUENCE:3
DTSTAMP:20260425T024731Z
URL:https://business.shelbychamber.org/events/details/renaissance-consignment-boutique-s-big-blowout-sale-07-30-2012-4278
END:VEVENT

END:VCALENDAR
