BEGIN:VCALENDAR
VERSION:2.0
PRODID:-//ChamberMaster//Event Calendar 2.0//EN
METHOD:PUBLISH
X-PUBLISHED-TTL:P3D
REFRESH-INTERVAL:P3D
CALSCALE:GREGORIAN
BEGIN:VEVENT
DTSTART:20140315T120000Z
DTEND:20140315T170000Z
X-MICROSOFT-CDO-ALLDAYEVENT:FALSE
SUMMARY:Rescue 1 5K Run
DESCRIPTION:This 5 K Run will take place March 15th\, 2014 at Veterans Park HWY 119 Alabaster\, AL. It is sponsored by Amazing Grace Worship Center benefiting Rescue 1 Global Missions. 5K entry Fee $25.00 Fun Run $25.00. Until February 26th late entry fee $30.00. Registrations begins 7:00 am 5K race begins at 8:00 am. Fun Run beings 8:30 am. Register online at www.amazinggracwc.org. Rescue 1 Global Missions combats human trafficking both locally and abroad. Human trafficking has become the 2nd largest criminal industry in the world and America is the #1 consumer! Please come out and help us raise awareness and support for this wonderful faith based mission.
X-ALT-DESC;FMTTYPE=text/html:This 5 K Run will take place March 15th\, 2014 at Veterans Park HWY 119 Alabaster\, AL. It is sponsored by Amazing Grace Worship Center benefiting Rescue 1 Global Missions. 5K entry Fee $25.00 Fun Run $25.00. Until February 26th late entry fee $30.00. Registrations begins 7:00 am 5K race begins at 8:00 am. Fun Run beings 8:30 am. Register online at www.amazinggracwc.org. Rescue 1 Global Missions combats human trafficking both locally and abroad. Human trafficking has become the 2nd largest criminal industry in the world and America is the #1 consumer! Please come out and help us raise awareness and support for this wonderful faith based mission. 
LOCATION:Veterans Park 7305 Hwy 119 Alabaster\, AL 35007
UID:e.145.5039
SEQUENCE:3
DTSTAMP:20260423T201137Z
URL:https://business.shelbychamber.org/events/details/rescue-1-5k-run-03-15-2014-5039
END:VEVENT

END:VCALENDAR
