BEGIN:VCALENDAR
VERSION:2.0
PRODID:-//ChamberMaster//Event Calendar 2.0//EN
METHOD:PUBLISH
X-PUBLISHED-TTL:P3D
REFRESH-INTERVAL:P3D
CALSCALE:GREGORIAN
BEGIN:VEVENT
DTSTART:20130929T124500Z
DTEND:20130929T160000Z
X-MICROSOFT-CDO-ALLDAYEVENT:FALSE
SUMMARY:Restoring Trust in the Workplace While Living in Distrusting Times
DESCRIPTION:It's no secret that trust in the workplace is at its lowest level in decades. According to Gallup\, only 29% of employees are fully engaged while at work.\n\n\n\nFind out how trust can be restored\, how it begins with each of us\, and how it's a marathon - not a sprint.  Click here for a printable PDF flier about the event!\n\n\n\nPresented by Express Employment Professionals and the Birmingham Society of Human Resource Management.\n\n\n\nAbout the Event:\n\n\n\nIt's no secret that trust in the workplace is at its lowest level in decades. According to Gallup\, only 29% of employees are fully engaged and the most populated generation in the workplace is firing out r sum s due to a lack of trust in leadership\, resulting in organizational dissatisfaction. We've been surrounded by massive fraud and scandal in business from the banking industry to the energy sector.\n\n\n\nTrust CAN be restored in the workplace\, but it is a marathon\, not a sprint. Trust\, not money\, is the currency of business and life. During this session\, we'll identify whether we are "blind trusters" or "distrusters." We'll also discuss the secrets behind the most trusted companies and how trust impacts retention\, sales\, customer service\, and profits.\n\n\n\nRestoring trust in our workplace begins with each of us. As leaders\, we must understand how every daily decision we make impacts others. In today's highly competitive business environment\, remaining No. 1 has become the new standard and can only be achieved by developing a culture of trust with your employees and external customers.\n\n\n\nEvent Details:\n\n\n\nDate:\n\nWednesday\, October 9\, 2013\n\n\n\nTime:\n\n7:45 am - Continental Breakfast\n\n8:30 am - 11:00 am - Session\n\n\n\nCost:\n\nFREE for first attendee from any company\; $20 for additional attendees from the same company.\n\n\n\nPay at door\, or checks payable to:\n\nExpress Employment Professionals\n\n470 Cahaba Park Circle\n\nBirmingham\, AL 35242\n\n\n\nLocation:\n\nWynfrey Hotel\, 2nd floor\n\n1000 Riverchase Galleria\n\nBirmingham\, AL 35235\n\n\n\nRSVP TODAY:\n\nLimited seating available   call:\n\n(205) 981-1141\, or email:\n\nBruce.Gouin@expresspros.com\n\nRegistration deadline: 12 Noon\, October 7\, 2013\n\n\n\nHRCI Credits:\n\n2.5 continuing education credits are available to attendees with their Human Resources certification.\n\n\n\nRSVP TODAY:\n\nLimited seating available   call:\n\n(205) 981-1141\, or email:\n\nBruce.Gouin@expresspros.com\n\nRegistration deadline: 12 Noon\, October 7\, 2013
X-ALT-DESC;FMTTYPE=text/html:It&#39\;s no secret that trust in the workplace is at its lowest level in decades. According to Gallup\, only 29% of employees are fully engaged while at work.<br />\n<br />\nFind out how trust can be restored\, how it begins with each of us\, and how it&rsquo\;s a marathon - not a sprint.&nbsp\; <a href="http://cloud.chambermaster.com/userfiles/UserFiles/chambers/145/File/Community Events/INVITATION-2013ManagementLeadershipSeminar.jpg">Click here for a printable PDF flie</a>r about the event!<br />\n<br />\nPresented by Express Employment Professionals and the Birmingham Society of Human Resource Management.<br />\n<br />\nAbout the Event:<br />\n<br />\nIt&#39\;s no secret that trust in the workplace is at its lowest level in decades. According to Gallup\, only 29% of employees are fully engaged and the most populated generation in the workplace is firing out r&eacute\;sum&eacute\;s due to a lack of trust in leadership\, resulting in organizational dissatisfaction. We&#39\;ve been surrounded by massive fraud and scandal in business from the banking industry to the energy sector.<br />\n<br />\nTrust CAN be restored in the workplace\, but it is a marathon\, not a sprint. Trust\, not money\, is the currency of business and life. During this session\, we&#39\;ll identify whether we are &quot\;blind trusters&quot\; or &quot\;distrusters.&quot\; We&#39\;ll also discuss the secrets behind the most trusted companies and how trust impacts retention\, sales\, customer service\, and profits.<br />\n<br />\nRestoring trust in our workplace begins with each of us. As leaders\, we must understand how every daily decision we make impacts others. In today&#39\;s highly competitive business environment\, remaining No. 1 has become the new standard and can only be achieved by developing a culture of trust with your employees and external customers.<br />\n<br />\nEvent Details:<br />\n<br />\nDate:<br />\nWednesday\, October 9\, 2013<br />\n<br />\nTime:<br />\n7:45 am - Continental Breakfast<br />\n8:30 am - 11:00 am - Session<br />\n<br />\nCost:<br />\nFREE for first attendee from any company\; $20 for additional attendees from the same company.<br />\n<br />\nPay at door\, or checks payable to:<br />\nExpress Employment Professionals<br />\n470 Cahaba Park Circle<br />\nBirmingham\, AL 35242<br />\n<br />\nLocation:<br />\nWynfrey Hotel\, 2nd floor<br />\n1000 Riverchase Galleria<br />\nBirmingham\, AL 35235<br />\n<br />\nRSVP TODAY:<br />\nLimited seating available &ndash\; call:<br />\n(205) 981-1141\, or email:<br />\nBruce.Gouin@expresspros.com<br />\nRegistration deadline: 12 Noon\, October 7\, 2013<br />\n<br />\nHRCI Credits:<br />\n2.5 continuing education credits are available to attendees with their Human Resources certification.<br />\n<br />\nRSVP TODAY:<br />\nLimited seating available &ndash\; call:<br />\n(205) 981-1141\, or email:<br />\nBruce.Gouin@expresspros.com<br />\nRegistration deadline: 12 Noon\, October 7\, 2013
LOCATION:Wynfrey Hotel\, 2nd floor 1000 Riverchase Galleria Birmingham\, AL 35235
UID:e.145.4740
SEQUENCE:3
DTSTAMP:20260424T051330Z
URL:https://business.shelbychamber.org/events/details/restoring-trust-in-the-workplace-while-living-in-distrusting-times-09-29-2013-4740
END:VEVENT

END:VCALENDAR
