BEGIN:VCALENDAR
VERSION:2.0
PRODID:-//ChamberMaster//Event Calendar 2.0//EN
METHOD:PUBLISH
X-PUBLISHED-TTL:P3D
REFRESH-INTERVAL:P3D
CALSCALE:GREGORIAN
BEGIN:VEVENT
DTSTART:20160915T153000Z
DTEND:20160915T163000Z
X-MICROSOFT-CDO-ALLDAYEVENT:FALSE
SUMMARY:Reverse Mortgages: Are they really beneficial for Seniors?
DESCRIPTION:Education Seminar- How old do I have to be? Do I retain ownership of my home? Does my family inherit debt when I die? What is the difference between a Reverse Mortgage and a Home Equity Line of Credit? All of these questions and more will be answered. Facilitated by John Littleford\, Reverse Mortgage Professional NMLS #1452250
X-ALT-DESC;FMTTYPE=text/html:Education Seminar- How old do I have to be? Do I retain ownership of my home? Does my family inherit debt when I die? What is the difference between a Reverse Mortgage and a Home Equity Line of Credit? All of these questions and more will be answered. Facilitated by John Littleford\, Reverse Mortgage Professional NMLS #1452250
LOCATION:North Shelby Library 5521 Cahaba Valley Rd Birmingham\, AL 35242
UID:e.145.9722
SEQUENCE:3
DTSTAMP:20260421T184018Z
URL:https://business.shelbychamber.org/events/details/reverse-mortgages-are-they-really-beneficial-for-seniors-09-15-2016-9722
END:VEVENT

END:VCALENDAR
