BEGIN:VCALENDAR
VERSION:2.0
PRODID:-//ChamberMaster//Event Calendar 2.0//EN
METHOD:PUBLISH
X-PUBLISHED-TTL:P3D
REFRESH-INTERVAL:P3D
CALSCALE:GREGORIAN
BEGIN:VEVENT
DTSTART:20161103T153000Z
DTEND:20161103T163000Z
X-MICROSOFT-CDO-ALLDAYEVENT:FALSE
SUMMARY:Reverse Mortgages: Are they really beneficial for seniors?
DESCRIPTION:This is an educational seminar facilitated by John Litttleford\, Reverse Mortgage Professional\, NMLS #1452250. How old do I have to be? Do I retain ownership of my home? Does my family inherit debt when I die? What is the difference between a Reverse Mortage and a Home Equity Line of Credit? All of these questions and more will be answered. Please call 205.439.5510 for more information.
X-ALT-DESC;FMTTYPE=text/html:This is an educational seminar facilitated by John Litttleford\, Reverse Mortgage Professional\, NMLS #1452250. How old do I have to be? Do I retain ownership of my home? Does my family inherit debt when I die? What is the difference between a Reverse Mortage and a Home Equity Line of Credit? All of these questions and more will be answered. Please call 205.439.5510 for more information.
LOCATION:North Shelby Library
UID:e.145.9788
SEQUENCE:3
DTSTAMP:20260421T151322Z
URL:https://business.shelbychamber.org/events/details/reverse-mortgages-are-they-really-beneficial-for-seniors-9788
END:VEVENT

END:VCALENDAR
