BEGIN:VCALENDAR
VERSION:2.0
PRODID:-//ChamberMaster//Event Calendar 2.0//EN
METHOD:PUBLISH
X-PUBLISHED-TTL:P3D
REFRESH-INTERVAL:P3D
CALSCALE:GREGORIAN
BEGIN:VEVENT
DTSTART:20130322T150000Z
DTEND:20130322T160000Z
X-MICROSOFT-CDO-ALLDAYEVENT:FALSE
SUMMARY:Ribbit Ribbit
DESCRIPTION:Come learn about the animals we call frogs and toads. Meet at the Campground Pavilion.
X-ALT-DESC;FMTTYPE=text/html:Come learn about the animals we call frogs and toads. Meet at the Campground Pavilion.
LOCATION:Oak Mountain State Park - Campground Pavilion
UID:e.145.4517
SEQUENCE:3
DTSTAMP:20260424T153225Z
URL:https://business.shelbychamber.org/events/details/ribbit-ribbit-03-22-2013-4517
END:VEVENT

END:VCALENDAR
