BEGIN:VCALENDAR
VERSION:2.0
PRODID:-//ChamberMaster//Event Calendar 2.0//EN
METHOD:PUBLISH
X-PUBLISHED-TTL:P3D
REFRESH-INTERVAL:P3D
CALSCALE:GREGORIAN
BEGIN:VEVENT
DTSTART:20130228T220000Z
DTEND:20130301T000000Z
X-MICROSOFT-CDO-ALLDAYEVENT:FALSE
SUMMARY:Ribbon Cutting- Accelerated Physical Therapy
DESCRIPTION:Accelerated Physical Therapy will be having a Ribbon Cutting to celebrate their new location!
X-ALT-DESC;FMTTYPE=text/html:Accelerated Physical Therapy will be having a Ribbon Cutting to celebrate their new location! 
LOCATION:2691 Pelham Parkway\, STE B Pelham\, AL 35124
UID:e.145.4538
SEQUENCE:3
DTSTAMP:20260424T171521Z
URL:https://business.shelbychamber.org/events/details/ribbon-cutting-accelerated-physical-therapy-02-28-2013-4538
END:VEVENT

END:VCALENDAR
