BEGIN:VCALENDAR
VERSION:2.0
PRODID:-//ChamberMaster//Event Calendar 2.0//EN
METHOD:PUBLISH
X-PUBLISHED-TTL:P3D
REFRESH-INTERVAL:P3D
CALSCALE:GREGORIAN
BEGIN:VEVENT
DTSTART:20150812T143000Z
DTEND:20150812T153000Z
X-MICROSOFT-CDO-ALLDAYEVENT:FALSE
SUMMARY:Ribbon Cutting Advanced Weight Loss Pelham
DESCRIPTION:Please join us as we welcome Advanced Weight Loss to Pelham!
X-ALT-DESC;FMTTYPE=text/html:Please join us as we welcome Advanced Weight Loss to Pelham!
LOCATION:They are located at 2691 Pelham Parkway\, Pelham\, 35124.
UID:e.145.7763
SEQUENCE:3
DTSTAMP:20260422T183149Z
URL:https://business.shelbychamber.org/events/details/ribbon-cutting-advanced-weight-loss-pelham-08-12-2015-7763
END:VEVENT

END:VCALENDAR
