BEGIN:VCALENDAR
VERSION:2.0
PRODID:-//ChamberMaster//Event Calendar 2.0//EN
METHOD:PUBLISH
X-PUBLISHED-TTL:P3D
REFRESH-INTERVAL:P3D
CALSCALE:GREGORIAN
BEGIN:VEVENT
DTSTART:20150827T140000Z
DTEND:20150827T150000Z
X-MICROSOFT-CDO-ALLDAYEVENT:FALSE
SUMMARY:Ribbon Cutting- Alpha Dawg Pet Sitting
DESCRIPTION:Join us for the 2 year celebration of Alpha Dawg Pet Sitting!
X-ALT-DESC;FMTTYPE=text/html:Join us for the 2 year celebration of Alpha Dawg Pet Sitting!&nbsp\;
LOCATION:The event will be held at Mt.Laurel's Dog park at the corner of Kessler Street and Abbott Avenue.
UID:e.145.7808
SEQUENCE:3
DTSTAMP:20260422T183613Z
URL:https://business.shelbychamber.org/events/details/ribbon-cutting-alpha-dawg-pet-sitting-08-27-2015-7808
END:VEVENT

END:VCALENDAR
