BEGIN:VCALENDAR
VERSION:2.0
PRODID:-//ChamberMaster//Event Calendar 2.0//EN
METHOD:PUBLISH
X-PUBLISHED-TTL:P3D
REFRESH-INTERVAL:P3D
CALSCALE:GREGORIAN
BEGIN:VEVENT
DTSTART:20150810T150000Z
DTEND:20150810T220000Z
X-MICROSOFT-CDO-ALLDAYEVENT:FALSE
SUMMARY:Ribbon Cutting- APH Radio
DESCRIPTION:Please join us to WELCOME the ONLY Radio Station  in Shelby County to Alabaster! \n\nWe will be having a Ribbon Cutting at 10AM followed by tours and an Open house. If you can't make the Ribbon Cutting\, no problem! Stop by anytime that day to get a tour and check APH's new home.
X-ALT-DESC;FMTTYPE=text/html:<span style="font-size: medium\;"><span style="font-family: calibri\;">Please join us to WELCOME the ONLY Radio Station&nbsp\; in Shelby County to Alabaster! </span></span><br />\n<span style="font-size: medium\;"><span style="font-family: calibri\;">We will be having a Ribbon Cutting at 10AM followed by tours and an Open house. If you can&rsquo\;t make the Ribbon Cutting\, no problem! Stop by anytime that day to get a tour and check APH&rsquo\;s new home. </span></span><br />\n&nbsp\;
LOCATION:They are located at 217 1st Street Suite C\, Alabaster\, AL 35007. If you are on highway 31 heading from Pelham to Alabaster you will pass a BBQ restaurant on your Right. It is above Salon 5 on your right.
UID:e.145.7724
SEQUENCE:3
DTSTAMP:20260422T195742Z
URL:https://business.shelbychamber.org/events/details/ribbon-cutting-aph-radio-08-10-2015-7724
END:VEVENT

END:VCALENDAR
