BEGIN:VCALENDAR
VERSION:2.0
PRODID:-//ChamberMaster//Event Calendar 2.0//EN
METHOD:PUBLISH
X-PUBLISHED-TTL:P3D
REFRESH-INTERVAL:P3D
CALSCALE:GREGORIAN
BEGIN:VEVENT
DTSTART:20150506T200000Z
DTEND:20150506T230000Z
X-MICROSOFT-CDO-ALLDAYEVENT:FALSE
SUMMARY:Ribbon Cutting- ARC Point Labs of Birmingham at Greystone
DESCRIPTION:Please join us to celebrate the GRAND OPENING of ARC Point Labs of Birmingham @ Greystone.
X-ALT-DESC;FMTTYPE=text/html:Please join us to celebrate the GRAND OPENING of ARC Point Labs of Birmingham @ Greystone.
LOCATION:They are located at 5510 Hwy 280 S. Suite 225 Birmingham\, AL 35242
UID:e.145.7635
SEQUENCE:3
DTSTAMP:20260423T003342Z
URL:https://business.shelbychamber.org/events/details/ribbon-cutting-arc-point-labs-of-birmingham-at-greystone-05-06-2015-7635
END:VEVENT

END:VCALENDAR
