BEGIN:VCALENDAR
VERSION:2.0
PRODID:-//ChamberMaster//Event Calendar 2.0//EN
METHOD:PUBLISH
X-PUBLISHED-TTL:P3D
REFRESH-INTERVAL:P3D
CALSCALE:GREGORIAN
BEGIN:VEVENT
DTSTART:20150427T210000Z
DTEND:20150427T220000Z
X-MICROSOFT-CDO-ALLDAYEVENT:FALSE
SUMMARY:Ribbon Cutting- Bahama Buck's
DESCRIPTION:Please join us for a Ribbon Cutting to celebrate the Grand Opening of Bahama Buck's!
X-ALT-DESC;FMTTYPE=text/html:Please join us for a Ribbon Cutting to celebrate the Grand Opening of Bahama Buck&#39\;s!&nbsp\;&nbsp\;&nbsp\;
LOCATION:They are located at 2300 Pelham Parkway\, Pelham\, 35124. They are beside Gold's Gym off of Highway 31.
UID:e.145.7626
SEQUENCE:3
DTSTAMP:20260423T020655Z
URL:https://business.shelbychamber.org/events/details/ribbon-cutting-bahama-buck-s-04-27-2015-7626
END:VEVENT

END:VCALENDAR
