BEGIN:VCALENDAR
VERSION:2.0
PRODID:-//ChamberMaster//Event Calendar 2.0//EN
METHOD:PUBLISH
X-PUBLISHED-TTL:P3D
REFRESH-INTERVAL:P3D
CALSCALE:GREGORIAN
BEGIN:VEVENT
DTSTART:20160219T183000Z
DTEND:20160219T193000Z
X-MICROSOFT-CDO-ALLDAYEVENT:FALSE
SUMMARY:Ribbon Cutting Celebrating New Department At Heart South Cardiovascular Group
DESCRIPTION:You're Invited to the Ribbon Cutting Celebrating a New Department Opening at Heart South Cardiovascular Group! \n\n\n\nYou are invited to attend the Ribbon Cutting Celebration for Heart South Cardiovascular Group new department opening located at 1022 North 1st Street in Alabaster on Friday\, February 19 at 12:30PM.
X-ALT-DESC;FMTTYPE=text/html:<p><br />\n<strong>You&#39\;re Invited to the Ribbon Cutting Celebrating a New Department Opening at Heart South Cardiovascular Group! </strong><br />\n<br />\nYou are invited to attend the Ribbon Cutting Celebration for Heart South Cardiovascular Group new department opening located at 1022 North 1st Street in Alabaster on Friday\, February 19 at 12:30PM.</p>\n
LOCATION:Heart South Cardiovascular Group 1022 North 1st Street\, Suite 400 Alabaster\, AL 35007
UID:e.145.8336
SEQUENCE:3
DTSTAMP:20260422T093756Z
URL:https://business.shelbychamber.org/events/details/ribbon-cutting-celebrating-new-department-at-heart-south-cardiovascular-group-02-19-2016-8336
END:VEVENT

END:VCALENDAR
