BEGIN:VCALENDAR
VERSION:2.0
PRODID:-//ChamberMaster//Event Calendar 2.0//EN
METHOD:PUBLISH
X-PUBLISHED-TTL:P3D
REFRESH-INTERVAL:P3D
CALSCALE:GREGORIAN
BEGIN:VEVENT
DTSTART:20110803T190000Z
DTEND:20110803T193000Z
X-MICROSOFT-CDO-ALLDAYEVENT:FALSE
SUMMARY:Ribbon Cutting Ceremony for The Cat's Meow Family Consignment Boutique
DESCRIPTION:Join Kimberly Valentine-Pierrotti as she celebrates her "Back to School" Sale with a Ribbon Cutting ceremony!\n\n	\n\n	Wednesday\, August 3\, 2011\n\n	at 2:00 pm\n\n	\n\n	The Cat's Meow Family Consignment Boutique\n\n	10699 Old Highway 280\, Bldg. 5\, Ste 8\n\n	Chelsea\, AL  35043\n\n	\n\n	Come and Shop for the entire family!!!!
X-ALT-DESC;FMTTYPE=text/html:<p style="text-align: center\;">\n	<span style="font-size: 16px\;"><span style="font-family: arial\;">Join Kimberly Valentine-Pierrotti as she celebrates her &quot\;Back to School&quot\; Sale with a Ribbon Cutting ceremony!<br />\n	<br />\n	Wednesday\, August 3\, 2011<br />\n	at 2:00 pm<br />\n	<br />\n	The Cat&#39\;s Meow Family Consignment Boutique<br />\n	10699 Old Highway 280\, Bldg. 5\, Ste 8<br />\n	Chelsea\, AL&nbsp\; 35043<br />\n	<br />\n	Come and Shop for the entire family!!!!</span></span></p>\n
LOCATION:The Cat's Meow Family Consignment Boutique 10699 Old Highway 280\, Bldg. 5\, Ste 8 Chelsea\, AL 35043
UID:e.145.3479
SEQUENCE:3
DTSTAMP:20260425T215505Z
URL:https://business.shelbychamber.org/events/details/ribbon-cutting-ceremony-for-the-cat-s-meow-family-consignment-boutique-08-03-2011-3479
END:VEVENT

END:VCALENDAR
