BEGIN:VCALENDAR
VERSION:2.0
PRODID:-//ChamberMaster//Event Calendar 2.0//EN
METHOD:PUBLISH
X-PUBLISHED-TTL:P3D
REFRESH-INTERVAL:P3D
CALSCALE:GREGORIAN
BEGIN:VEVENT
DTSTART:20150223T173000Z
DTEND:20150223T190000Z
X-MICROSOFT-CDO-ALLDAYEVENT:FALSE
SUMMARY:Ribbon Cutting Easy Money Pelham
DESCRIPTION:Please join us to celebrate the Grand Opening of Easy Money!
X-ALT-DESC;FMTTYPE=text/html:Please join us to celebrate the Grand Opening of Easy Money!&nbsp\;&nbsp\;&nbsp\;
LOCATION:They are located in Pelham at 3536 Pelham Parkway
UID:e.145.7328
SEQUENCE:3
DTSTAMP:20260423T034710Z
URL:https://business.shelbychamber.org/events/details/ribbon-cutting-easy-money-pelham-02-23-2015-7328
END:VEVENT

END:VCALENDAR
