BEGIN:VCALENDAR
VERSION:2.0
PRODID:-//ChamberMaster//Event Calendar 2.0//EN
METHOD:PUBLISH
X-PUBLISHED-TTL:P3D
REFRESH-INTERVAL:P3D
CALSCALE:GREGORIAN
BEGIN:VEVENT
DTSTART:20130213T160000Z
DTEND:20130213T180000Z
X-MICROSOFT-CDO-ALLDAYEVENT:FALSE
SUMMARY:Ribbon Cutting- Fitness Together Greystone
DESCRIPTION:Fitness together will be having a Ribbon Cutting to celebrate their 10th year of being open! Come out and celebrate with us tomorrow morning!
X-ALT-DESC;FMTTYPE=text/html:Fitness together will be having a Ribbon Cutting to celebrate their 10th year of being open! Come out and celebrate with us tomorrow morning! &nbsp\;&nbsp\;&nbsp\; 
LOCATION:5361 Highway 280 South Suite 1024 Birmingham\, AL 35242 They are located behind the Krispy Kreme on 280
UID:e.145.4536
SEQUENCE:3
DTSTAMP:20260424T172149Z
URL:https://business.shelbychamber.org/events/details/ribbon-cutting-fitness-together-greystone-02-13-2013-4536
END:VEVENT

END:VCALENDAR
