BEGIN:VCALENDAR
VERSION:2.0
PRODID:-//ChamberMaster//Event Calendar 2.0//EN
METHOD:PUBLISH
X-PUBLISHED-TTL:P3D
REFRESH-INTERVAL:P3D
CALSCALE:GREGORIAN
BEGIN:VEVENT
DTSTART:20150828T150000Z
DTEND:20150828T160000Z
X-MICROSOFT-CDO-ALLDAYEVENT:FALSE
SUMMARY:Ribbon Cutting- HDC
DESCRIPTION:Please join to celebrate the GRAND OPENING of  HDC with a Ribbon Cutting.
X-ALT-DESC;FMTTYPE=text/html:Please join to celebrate the GRAND OPENING of &nbsp\;HDC with a Ribbon Cutting.
LOCATION:8051 US Hwy 31\, Calera 35040
UID:e.145.7813
SEQUENCE:3
DTSTAMP:20260422T195619Z
URL:https://business.shelbychamber.org/events/details/ribbon-cutting-hdc-08-28-2015-7813
END:VEVENT

END:VCALENDAR
