BEGIN:VCALENDAR
VERSION:2.0
PRODID:-//ChamberMaster//Event Calendar 2.0//EN
METHOD:PUBLISH
X-PUBLISHED-TTL:P3D
REFRESH-INTERVAL:P3D
CALSCALE:GREGORIAN
BEGIN:VEVENT
DTSTART:20150521T213000Z
DTEND:20150521T223000Z
X-MICROSOFT-CDO-ALLDAYEVENT:FALSE
SUMMARY:Ribbon Cutting- Highland Shoe Company
DESCRIPTION:Please join us for the Grand Opening of Highland Shoe Company.
X-ALT-DESC;FMTTYPE=text/html:Please join us for the Grand Opening of Highland Shoe Company.
LOCATION:The address is 250 Doug Baker Blvd Ste 200\, Birmingham\, AL 35242. They are located in the Lee Branch Shopping Center beside Chicken Salad Chick.
UID:e.145.7650
SEQUENCE:3
DTSTAMP:20260423T003257Z
URL:https://business.shelbychamber.org/events/details/ribbon-cutting-highland-shoe-company-05-21-2015-7650
END:VEVENT

END:VCALENDAR
