BEGIN:VCALENDAR
VERSION:2.0
PRODID:-//ChamberMaster//Event Calendar 2.0//EN
METHOD:PUBLISH
X-PUBLISHED-TTL:P3D
REFRESH-INTERVAL:P3D
CALSCALE:GREGORIAN
BEGIN:VEVENT
DTSTART:20150519T130000Z
DTEND:20150520T020000Z
X-MICROSOFT-CDO-ALLDAYEVENT:FALSE
SUMMARY:Ribbon Cutting- Its About Time Urgent Care
DESCRIPTION:Please join us to celebrate the Grand Opening of Its About Time Urgent Care.
X-ALT-DESC;FMTTYPE=text/html:Please join us to celebrate the Grand Opening of Its About Time Urgent Care.&nbsp\;&nbsp\;
LOCATION:They are located at 225 Helena Market Place\, Helena\, 35080.
UID:e.145.7649
SEQUENCE:3
DTSTAMP:20260422T231131Z
URL:https://business.shelbychamber.org/events/details/ribbon-cutting-its-about-time-urgent-care-05-19-2015-7649
END:VEVENT

END:VCALENDAR
