BEGIN:VCALENDAR
VERSION:2.0
PRODID:-//ChamberMaster//Event Calendar 2.0//EN
METHOD:PUBLISH
X-PUBLISHED-TTL:P3D
REFRESH-INTERVAL:P3D
CALSCALE:GREGORIAN
BEGIN:VEVENT
DTSTART:20150430T190000Z
DTEND:20150430T200000Z
X-MICROSOFT-CDO-ALLDAYEVENT:FALSE
SUMMARY:Ribbon Cutting- Krista Rogers State Farm Agency
DESCRIPTION:Please join us in celebrating the new location of Krista Roger's State Farm!
X-ALT-DESC;FMTTYPE=text/html:Please join us in celebrating the new location of Krista Roger&#39\;s State Farm!
LOCATION:They are located at 1123 1st Street North Suite C\, Alabaster\, AL 35007 They are across from the 1022 building on hwy 31 between Krystal's and Enterprise car Rentals.
UID:e.145.7648
SEQUENCE:3
DTSTAMP:20260423T020824Z
URL:https://business.shelbychamber.org/events/details/ribbon-cutting-krista-rogers-state-farm-agency-04-30-2015-7648
END:VEVENT

END:VCALENDAR
