BEGIN:VCALENDAR
VERSION:2.0
PRODID:-//ChamberMaster//Event Calendar 2.0//EN
METHOD:PUBLISH
X-PUBLISHED-TTL:P3D
REFRESH-INTERVAL:P3D
CALSCALE:GREGORIAN
BEGIN:VEVENT
DTSTART:20150722T150000Z
DTEND:20150722T160000Z
X-MICROSOFT-CDO-ALLDAYEVENT:FALSE
SUMMARY:Ribbon Cutting- Living Nurtured
DESCRIPTION:Please join us to celebrate the GRAND Opening of Living Nurtured!
X-ALT-DESC;FMTTYPE=text/html:Please join us to celebrate the GRAND Opening of Living Nurtured! &nbsp\;&nbsp\;&nbsp\;
LOCATION:They are located at 21019 Highway 25 Columbiana\, AL 35051
UID:e.145.7723
SEQUENCE:3
DTSTAMP:20260422T195936Z
URL:https://business.shelbychamber.org/events/details/ribbon-cutting-living-nurtured-07-22-2015-7723
END:VEVENT

END:VCALENDAR
