BEGIN:VCALENDAR
VERSION:2.0
PRODID:-//ChamberMaster//Event Calendar 2.0//EN
METHOD:PUBLISH
X-PUBLISHED-TTL:P3D
REFRESH-INTERVAL:P3D
CALSCALE:GREGORIAN
BEGIN:VEVENT
DTSTART:20150415T153000Z
DTEND:20150415T160000Z
X-MICROSOFT-CDO-ALLDAYEVENT:FALSE
SUMMARY:Ribbon Cutting- Magic Wok
DESCRIPTION:Join us for a Ribbon Cutting celebrating the GRAND OPENING of Magic Wok in Calera.
X-ALT-DESC;FMTTYPE=text/html:Join us for a Ribbon Cutting celebrating the GRAND OPENING of Magic Wok in Calera. &nbsp\;&nbsp\;&nbsp\;
LOCATION:They are located at 275 Supercenter Drive Calera\, AL\, 35040. It is beside the Hibbett Sports located in the Walmart Shopping Center.
UID:e.145.7624
SEQUENCE:3
DTSTAMP:20260423T003002Z
URL:https://business.shelbychamber.org/events/details/ribbon-cutting-magic-wok-04-15-2015-7624
END:VEVENT

END:VCALENDAR
