BEGIN:VCALENDAR
VERSION:2.0
PRODID:-//ChamberMaster//Event Calendar 2.0//EN
METHOD:PUBLISH
X-PUBLISHED-TTL:P3D
REFRESH-INTERVAL:P3D
CALSCALE:GREGORIAN
BEGIN:VEVENT
DTSTART:20150226T210000Z
DTEND:20150226T230000Z
X-MICROSOFT-CDO-ALLDAYEVENT:FALSE
SUMMARY:Ribbon Cutting Meadow Wood Apartments
DESCRIPTION:Please join us for a Ribbon Cutting to celebrate Meadow Wood Apartments
X-ALT-DESC;FMTTYPE=text/html:Please join us for a Ribbon Cutting to celebrate Meadow Wood Apartments&nbsp\;&nbsp\;&nbsp\;
LOCATION:800 Valleyview Road\, Pelham\, 35124
UID:e.145.7186
SEQUENCE:3
DTSTAMP:20260423T034802Z
URL:https://business.shelbychamber.org/events/details/ribbon-cutting-meadow-wood-apartments-02-26-2015-7186
END:VEVENT

END:VCALENDAR
