BEGIN:VCALENDAR
VERSION:2.0
PRODID:-//ChamberMaster//Event Calendar 2.0//EN
METHOD:PUBLISH
X-PUBLISHED-TTL:P3D
REFRESH-INTERVAL:P3D
CALSCALE:GREGORIAN
BEGIN:VEVENT
DTSTART:20150611T160000Z
DTEND:20150611T163000Z
X-MICROSOFT-CDO-ALLDAYEVENT:FALSE
SUMMARY:Ribbon Cutting NobleBank & Trust
DESCRIPTION:Join us for a Ribbon Cutting Ceremony at NobleBank & Trust at 11:00AM on June 11. NobleBank & Trust is located at 361 Summit Boulevard\, Suite 100\, Birmingham\, AL 35243.
X-ALT-DESC;FMTTYPE=text/html:Join us for a Ribbon Cutting Ceremony at NobleBank &amp\; Trust at 11:00AM on June 11. NobleBank &amp\; Trust is located at 361 Summit Boulevard\, Suite 100\, Birmingham\, AL 35243.
LOCATION:NobleBank & Trust 361 Summit Boulevard\, Suite 100 Birmingham\, AL 35243
UID:e.145.7710
SEQUENCE:3
DTSTAMP:20260422T212941Z
URL:https://business.shelbychamber.org/events/details/ribbon-cutting-noblebank-trust-06-11-2015-7710
END:VEVENT

END:VCALENDAR
