BEGIN:VCALENDAR
VERSION:2.0
PRODID:-//ChamberMaster//Event Calendar 2.0//EN
METHOD:PUBLISH
X-PUBLISHED-TTL:P3D
REFRESH-INTERVAL:P3D
CALSCALE:GREGORIAN
BEGIN:VEVENT
DTSTART:20150501T140000Z
DTEND:20150501T150000Z
X-MICROSOFT-CDO-ALLDAYEVENT:FALSE
SUMMARY:Ribbon Cutting- Oh My Sole
DESCRIPTION:Please join us for a Ribbon to celebrate the grand opening of Oh My Sole Boutique.
X-ALT-DESC;FMTTYPE=text/html:Please join us for a Ribbon to celebrate the grand opening of Oh My Sole Boutique.&nbsp\;&nbsp\;&nbsp\;
LOCATION:They are located on Main Street in Old Town Helena at 4045 Helena Road\, Helena 35080.
UID:e.145.7634
SEQUENCE:3
DTSTAMP:20260423T003116Z
URL:https://business.shelbychamber.org/events/details/ribbon-cutting-oh-my-sole-05-01-2015-7634
END:VEVENT

END:VCALENDAR
