BEGIN:VCALENDAR
VERSION:2.0
PRODID:-//ChamberMaster//Event Calendar 2.0//EN
METHOD:PUBLISH
X-PUBLISHED-TTL:P3D
REFRESH-INTERVAL:P3D
CALSCALE:GREGORIAN
BEGIN:VEVENT
DTSTART:20130927T220000Z
DTEND:20130928T000000Z
X-MICROSOFT-CDO-ALLDAYEVENT:FALSE
SUMMARY:Ribbon Cutting & Open House - Alabama Firefighters Museum Campaign OFFICE
DESCRIPTION:Please join the Alabama Firefighters Museum Foundation this Friday\, September 27th\, at 4:30PM for the first public unveiling of the plans for the Alabama Firefighters Museum & Education Center\, coming soon to Central Alabama!\n\n	 \n\n	The evening open house will begin with a ribbon cutting for the inaugural Capital Campaign OFFICE at 5:15PM and will include an outdoor showcase of fire trucks and equipment\, both old and new\, offering fun and great photo opportunities for the whole family!\n\n	\n\n	Video and visual productions illustrating what is designed for this $4.5 million project will spark excitement and understanding of the scope of this project\, and opportunities to connect with the current Partners on this important project will be available. These Project Partners include Shelby County\, the City of Calera\, the Alabama Fire College\, the Alabama Firefighters Museum Foundation\, the Calera Chamber of Commerce\, the Calera Industrial Development Board\, members of the Alabama Bucket Brigade (a local chapter of the national SPAAMFAA organization)\, and Executive Director Lindsay Schluntz.\n\n	 \n\n	 \n\n	Let's spread the word of this exciting project coming to Alabama... like wildfire!
X-ALT-DESC;FMTTYPE=text/html:<div>\n	Please join the Alabama Firefighters Museum Foundation this Friday\, September 27th\, at 4:30PM for the first public unveiling of the plans for the Alabama Firefighters Museum &amp\; Education Center\, coming soon to Central Alabama!</div>\n<div>\n	&nbsp\;</div>\n<div>\n	The evening open house will begin with a ribbon cutting for the inaugural Capital Campaign OFFICE at 5:15PM and will include an outdoor showcase of fire trucks and equipment\, both old and new\, offering fun and great photo opportunities for the whole family!</div>\n<div>\n	<br />\n	Video and visual productions illustrating what is designed for this $4.5 million project will spark excitement and understanding of the scope of this project\, and opportunities to connect with the current Partners on this important project will be available. These Project Partners include Shelby County\, the City of Calera\, the Alabama Fire College\, the Alabama Firefighters Museum Foundation\, the Calera Chamber of Commerce\, the Calera Industrial Development Board\, members of the Alabama Bucket Brigade (a local chapter of the national SPAAMFAA organization)\, and Executive Director Lindsay Schluntz.<br />\n	&nbsp\;</div>\n<div>\n	&nbsp\;</div>\n<div>\n	Let&#39\;s spread the word of this exciting project coming to Alabama... like wildfire!</div>\n<div>\n	&nbsp\;</div>\n
LOCATION:Hwy 25 across from Calera's Central State Bank main branch -- Exit 228 off I-65\, just 0.3 miles west of Museum construction site
UID:e.145.4741
SEQUENCE:3
DTSTAMP:20260424T051649Z
URL:https://business.shelbychamber.org/events/details/ribbon-cutting-open-house-alabama-firefighters-museum-campaign-office-09-27-2013-4741
END:VEVENT

END:VCALENDAR
