BEGIN:VCALENDAR
VERSION:2.0
PRODID:-//ChamberMaster//Event Calendar 2.0//EN
METHOD:PUBLISH
X-PUBLISHED-TTL:P3D
REFRESH-INTERVAL:P3D
CALSCALE:GREGORIAN
BEGIN:VEVENT
DTSTART:20150828T150000Z
DTEND:20150828T160000Z
X-MICROSOFT-CDO-ALLDAYEVENT:FALSE
SUMMARY:Ribbon Cutting- Party Art
DESCRIPTION:Please join us as we celebrate the NEW location of Party Art.
X-ALT-DESC;FMTTYPE=text/html:Please join us as we celebrate the NEW location of Party Art.
LOCATION:They are located at 811 Creekside Court\, Helena
UID:e.145.7812
SEQUENCE:3
DTSTAMP:20260422T183511Z
URL:https://business.shelbychamber.org/events/details/ribbon-cutting-party-art-08-28-2015-7812
END:VEVENT

END:VCALENDAR
