BEGIN:VCALENDAR
VERSION:2.0
PRODID:-//ChamberMaster//Event Calendar 2.0//EN
METHOD:PUBLISH
X-PUBLISHED-TTL:P3D
REFRESH-INTERVAL:P3D
CALSCALE:GREGORIAN
BEGIN:VEVENT
DTSTART:20150401T203000Z
DTEND:20150401T212500Z
X-MICROSOFT-CDO-ALLDAYEVENT:FALSE
SUMMARY:Ribbon Cutting- Simply Infused
DESCRIPTION:Don't be FOOLED by Olive Oils in Grocery Stores! Join us for a Ribbon Cutting to celebrate Simply Infused a unique shop that offers Olive Oils from around the World.
X-ALT-DESC;FMTTYPE=text/html:Don&#39\;t be FOOLED by Olive Oils in Grocery Stores! Join us for a Ribbon Cutting to celebrate Simply Infused a unique shop that offers Olive Oils from around the World. &nbsp\;&nbsp\;&nbsp\;
LOCATION:11 Olmsted Street Birmingham\, AL 35242. They are located in the town of Mt.Laurel behind the pizza restaurant.
UID:e.145.7623
SEQUENCE:3
DTSTAMP:20260423T003217Z
URL:https://business.shelbychamber.org/events/details/ribbon-cutting-simply-infused-04-01-2015-7623
END:VEVENT

END:VCALENDAR
