BEGIN:VCALENDAR
VERSION:2.0
PRODID:-//ChamberMaster//Event Calendar 2.0//EN
METHOD:PUBLISH
X-PUBLISHED-TTL:P3D
REFRESH-INTERVAL:P3D
CALSCALE:GREGORIAN
BEGIN:VEVENT
DTSTART:20150414T210000Z
DTEND:20150415T010000Z
X-MICROSOFT-CDO-ALLDAYEVENT:FALSE
SUMMARY:Ribbon Cutting- Summer Classice
DESCRIPTION:Please join us for a Ribbon Cutting to celebrate the Grand Opening of Summer Classics new location.
X-ALT-DESC;FMTTYPE=text/html:Please join us for a Ribbon Cutting to celebrate the Grand Opening of Summer Classics new location.&nbsp\;&nbsp\;
LOCATION:3140 Pelham Parkway\, Pelham\, 35124. They are located off of highway 31 across the street from Pelham Flowers
UID:e.145.7633
SEQUENCE:3
DTSTAMP:20260423T002931Z
URL:https://business.shelbychamber.org/events/details/ribbon-cutting-summer-classice-04-14-2015-7633
END:VEVENT

END:VCALENDAR
