BEGIN:VCALENDAR
VERSION:2.0
PRODID:-//ChamberMaster//Event Calendar 2.0//EN
METHOD:PUBLISH
X-PUBLISHED-TTL:P3D
REFRESH-INTERVAL:P3D
CALSCALE:GREGORIAN
BEGIN:VEVENT
DTSTART:20150828T163000Z
DTEND:20150828T173000Z
X-MICROSOFT-CDO-ALLDAYEVENT:FALSE
SUMMARY:Ribbon Cutting- The Petal Cart
DESCRIPTION:Please join us as we celebrate the GRAND OPENING of the Petal Cart
X-ALT-DESC;FMTTYPE=text/html:Please join us as we celebrate the GRAND OPENING of the Petal Cart
LOCATION:They are located at 136 Bowling Lane\, Pelham\, 335124
UID:e.145.7814
SEQUENCE:3
DTSTAMP:20260422T183720Z
URL:https://business.shelbychamber.org/events/details/ribbon-cutting-the-petal-cart-08-28-2015-7814
END:VEVENT

END:VCALENDAR
