BEGIN:VCALENDAR
VERSION:2.0
PRODID:-//ChamberMaster//Event Calendar 2.0//EN
METHOD:PUBLISH
X-PUBLISHED-TTL:P3D
REFRESH-INTERVAL:P3D
CALSCALE:GREGORIAN
BEGIN:VEVENT
DTSTART:20150601T160000Z
DTEND:20150601T180000Z
X-MICROSOFT-CDO-ALLDAYEVENT:FALSE
SUMMARY:Ribbon Cutting- Tower Loan of Alabaster
DESCRIPTION:Celebration of Tower Loans of Alabaster Grand Opening
X-ALT-DESC;FMTTYPE=text/html:Celebration of Tower Loans of Alabaster Grand Opening&nbsp\;&nbsp\;&nbsp\;
LOCATION:They are located at 7895 Hwy 119\, Alabaster\, 35007
UID:e.145.7671
SEQUENCE:3
DTSTAMP:20260422T230605Z
URL:https://business.shelbychamber.org/events/details/ribbon-cutting-tower-loan-of-alabaster-06-01-2015-7671
END:VEVENT

END:VCALENDAR
