BEGIN:VCALENDAR
VERSION:2.0
PRODID:-//ChamberMaster//Event Calendar 2.0//EN
METHOD:PUBLISH
X-PUBLISHED-TTL:P3D
REFRESH-INTERVAL:P3D
CALSCALE:GREGORIAN
BEGIN:VEVENT
DTSTART:20150612T160000Z
DTEND:20150612T170000Z
X-MICROSOFT-CDO-ALLDAYEVENT:FALSE
SUMMARY:Ribbon Cutting Uncle Maddio's Pizza Lee Branch Shopping Center
DESCRIPTION:You're invited to Uncle Maddio's Pizza Joint at 11:00AM in the Lee Branch Shopping Center to celebrate their Official Ribbon Cutting Ceremony.
X-ALT-DESC;FMTTYPE=text/html:You&#39\;re invited to Uncle Maddio&#39\;s Pizza Joint at 11:00AM in the Lee Branch Shopping Center to celebrate their Official Ribbon Cutting Ceremony.
LOCATION:210 Doug Baker Blvd. Suite 100 Hoover\, AL 35242
UID:e.145.7687
SEQUENCE:3
DTSTAMP:20260422T231433Z
URL:https://business.shelbychamber.org/events/details/ribbon-cutting-uncle-maddio-s-pizza-lee-branch-shopping-center-06-12-2015-7687
END:VEVENT

END:VCALENDAR
