BEGIN:VCALENDAR
VERSION:2.0
PRODID:-//ChamberMaster//Event Calendar 2.0//EN
METHOD:PUBLISH
X-PUBLISHED-TTL:P3D
REFRESH-INTERVAL:P3D
CALSCALE:GREGORIAN
BEGIN:VEVENT
DTSTART:20150528T150000Z
DTEND:20150528T160000Z
X-MICROSOFT-CDO-ALLDAYEVENT:FALSE
SUMMARY:Ribbon Cutting- Virginia College
DESCRIPTION:Please join us for a Ribbon Cutting at Virginia College
X-ALT-DESC;FMTTYPE=text/html:Please join us for a Ribbon Cutting at Virginia College
LOCATION:From the north\, take I-65 south through downtown Birmingham to the East Oxmoor Rd. exit. Continue east on Oxmoor Rd. straight through the traffic light at Green Springs Highway. Virginia College will be on the left at the far end of the Palisades Shopping Center. Directions: From the south\, take I-65 north to the Oxmoor Rd. exit. Turn right at the bottom of the exit ramp onto Oxmoor Rd. and go straight through the light at Green Springs Highway. Virginia College will be on the left at the far end of the Palisades Shopping Center.
UID:e.145.7652
SEQUENCE:3
DTSTAMP:20260422T231028Z
URL:https://business.shelbychamber.org/events/details/ribbon-cutting-virginia-college-05-28-2015-7652
END:VEVENT

END:VCALENDAR
