BEGIN:VCALENDAR
VERSION:2.0
PRODID:-//ChamberMaster//Event Calendar 2.0//EN
METHOD:PUBLISH
X-PUBLISHED-TTL:P3D
REFRESH-INTERVAL:P3D
CALSCALE:GREGORIAN
BEGIN:VEVENT
DTSTART:20150929T143000Z
DTEND:20150929T144500Z
X-MICROSOFT-CDO-ALLDAYEVENT:FALSE
SUMMARY:Ribbon Cutting Young Impressions Child Care Childcare Calera
DESCRIPTION:Ribbon Cutting at Young Impressions Child Care Childcare Calera\n\n\n\nYou're Invited to the Ribbon Cutting Ceremony for Young Impressions Child Care on Tuesday\, September 29 at 9:30AM.
X-ALT-DESC;FMTTYPE=text/html:<br />\n<strong>Ribbon Cutting at Young Impressions Child Care Childcare Calera</strong><br />\n<br />\nYou&#39\;re Invited to the Ribbon Cutting Ceremony for Young Impressions Child Care on Tuesday\, September 29 at 9:30AM.
LOCATION:Young Impressions Child Care Childcare 1208 5th Avenue\, Calera\, 35040 690-7228
UID:e.145.7899
SEQUENCE:3
DTSTAMP:20260422T183908Z
URL:https://business.shelbychamber.org/events/details/ribbon-cutting-young-impressions-child-care-childcare-calera-09-29-2015-7899
END:VEVENT

END:VCALENDAR
