BEGIN:VCALENDAR
VERSION:2.0
PRODID:-//ChamberMaster//Event Calendar 2.0//EN
METHOD:PUBLISH
X-PUBLISHED-TTL:P3D
REFRESH-INTERVAL:P3D
CALSCALE:GREGORIAN
BEGIN:VEVENT
DTSTART;VALUE=DATE:20110911
DTEND;VALUE=DATE:20110912
TRANSP:TRANSPARENT
X-MICROSOFT-CDO-ALLDAYEVENT:TRUE
SUMMARY:Ride for Kids Benefit for the Pediatric Brain Tumor Foundation
DESCRIPTION:Motorcycle ride benefitting the Pediatric Brain Tumor Foundation.\n\n\n\nWhen you join hundreds of other motorcyclists for this scenic ride through the Alabama countryside\, you'll have a great time while raising funds for the PBTF's medical research and family support programs! Riders on all makes and models are welcome.\n\n\n\nRegistration opens at 8 a.m. and closes at 9:45 a.m. The escorted ride starts at 10 a.m. sharp\, rain or shine!\n\n\n\nThe ride will loop back to the start point. After a light lunch\, participants will enjoy a Celebration of Life program that features interviews with young brain tumor survivors the Ride for Kids  "stars" of the day. Award presentations to top fundraisers will follow.\n\n\n\nThe host hotel is the Hampton Inn\, 310 Rex Lake Rd.\, Leeds\, AL 35094. Call 205-702-4141 by Sept. 4\, 2011 and ask for the RFK rate of $89/night. You can also reserve online at www.birminghamleeds.hamptoninn.com. Type "RFO" under Group/Convention code to get the RFK rate.\n\n\n\nThe minimum donation to ride is $35\, but the more money you raise\, the more premiums you earn.\n\n\n\nWe also draw for a new Honda motorcycle\, AGV helmet\, Cardo Scala Rider\, Dunlop tire and Tourmaster luggage. (Must be present to win.)\n\n\n\nIf you're unable to attend\, send your registration form and donations to PBTF\, 302 Ridgefield Ct.\, Asheville\, NC 28806. Mark your form "Not Attending" to credit your ride and receive your premiums by mail.\n\n\n\nClick here to visit the website and learn more about the Ride for Kids!
X-ALT-DESC;FMTTYPE=text/html:Motorcycle ride benefitting the Pediatric Brain Tumor Foundation.<br />\n<br />\nWhen you join hundreds of other motorcyclists for this scenic ride through the Alabama countryside\, you&#39\;ll have a great time while raising funds for the PBTF&#39\;s medical research and family support programs! Riders on all makes and models are welcome.<br />\n<br />\nRegistration opens at 8 a.m. and closes at 9:45 a.m. The escorted ride starts at 10 a.m. sharp\, rain or shine!<br />\n<br />\nThe ride will loop back to the start point. After a light lunch\, participants will enjoy a Celebration of Life program that features interviews with young brain tumor survivors&mdash\;the Ride for Kids&reg\; &quot\;stars&quot\; of the day. Award presentations to top fundraisers will follow.<br />\n<br />\nThe host hotel is the Hampton Inn\, 310 Rex Lake Rd.\, Leeds\, AL 35094. Call 205-702-4141 by Sept. 4\, 2011 and ask for the RFK rate of $89/night. You can also reserve online at www.birminghamleeds.hamptoninn.com. Type &quot\;RFO&quot\; under Group/Convention code to get the RFK rate.<br />\n<br />\nThe minimum donation to ride is $35\, but the more money you raise\, the more premiums you earn.<br />\n<br />\nWe also draw for a new Honda motorcycle\, AGV helmet\, Cardo Scala Rider\, Dunlop tire and Tourmaster luggage. (Must be present to win.)<br />\n<br />\nIf you&#39\;re unable to attend\, send your registration form and donations to PBTF\, 302 Ridgefield Ct.\, Asheville\, NC 28806. Mark your form &quot\;Not Attending&quot\; to credit your ride and receive your premiums by mail.<br />\n<br />\n<a href="http://www.pbtfus.org/rideforkids/events/2011/birmingham.html?print=t">Click here to visit the website and learn more about the Ride for Kids!</a>
LOCATION:Barber Motorsports Park 6040 Barber Motorsports Pkwy. Leeds\, AL 35094 (Exit 140 off I-20)
UID:e.145.3284
SEQUENCE:3
DTSTAMP:20260425T200849Z
URL:https://business.shelbychamber.org/events/details/ride-for-kids-benefit-for-the-pediatric-brain-tumor-foundation-09-11-2011-3284
END:VEVENT

END:VCALENDAR
