BEGIN:VCALENDAR
VERSION:2.0
PRODID:-//ChamberMaster//Event Calendar 2.0//EN
METHOD:PUBLISH
X-PUBLISHED-TTL:P3D
REFRESH-INTERVAL:P3D
CALSCALE:GREGORIAN
BEGIN:VEVENT
DTSTART:20110416T000000Z
DTEND:20110416T000000Z
X-MICROSOFT-CDO-ALLDAYEVENT:FALSE
SUMMARY:Ride for Kids Benefit Singing
DESCRIPTION:This is a southern gospel benefit singing to bring awareness and raise funds for the Pediatric Brain Tumor Foundation.   The singing is free\, but there will be a love offering taken up\, all money collected will go directly to the foundation.
X-ALT-DESC;FMTTYPE=text/html:This is a southern gospel benefit singing to bring awareness and raise funds for the Pediatric Brain Tumor Foundation.   The singing is free\, but there will be a love offering taken up\, all money collected will go directly to the foundation.
LOCATION:Living Hope Baptist Church 419 Phillipians Blvd Pelham\, Al 35124
UID:e.145.3283
SEQUENCE:3
DTSTAMP:20260426T034256Z
URL:https://business.shelbychamber.org/events/details/ride-for-kids-benefit-singing-04-15-2011-3283
END:VEVENT

END:VCALENDAR
