BEGIN:VCALENDAR
VERSION:2.0
PRODID:-//ChamberMaster//Event Calendar 2.0//EN
METHOD:PUBLISH
X-PUBLISHED-TTL:P3D
REFRESH-INTERVAL:P3D
CALSCALE:GREGORIAN
BEGIN:VEVENT
DTSTART:20130928T180000Z
DTEND:20130928T220000Z
X-MICROSOFT-CDO-ALLDAYEVENT:FALSE
SUMMARY:Riverchase Middle School Boys Basketball Golf Tournament 2013
DESCRIPTION:The Riverchase Middle School Boys Basketball teams will be having a golf tournament fundraiser at Timberline Golf Course to raise money for the purchase of new basketball uniforms on Saturday September 28th at 1pm. The format will be a 4 man scramble/best ball and team handicaps will be calculated and used to determine the winner. Prizes will be given for 1st and 2nd place teams as well as closest to the pin and longest drive contest on certian holes.\n\n\n\nAdditional Information:\n\n-Cash or Check only please. (Make checks payable to Riverchase Middle School)\n\n- Entries received by Wednesday September 18th will receive RMS Boys Basketball T-shirt\n\n- Light appetizers will be served after the tournament\n\n- Contact Coach Byars at b2byars@shelbyed.k12.al.us or 205-903-7530 to register or with any questions. Please provide your name\, Handicap/Avg. Score\, Cell Phone number and T-shirt size when registering.
X-ALT-DESC;FMTTYPE=text/html:The Riverchase Middle School&nbsp\;Boys Basketball teams will be having a golf tournament fundraiser at Timberline Golf Course to raise money for the purchase of new basketball uniforms on Saturday September 28th at 1pm. The format will be a 4 man scramble/best ball and team handicaps will be calculated and used to determine the winner. Prizes will be given for 1st and 2nd place teams as well as closest to the pin and longest drive contest on certian holes.<br />\n<br />\nAdditional Information:<br />\n-Cash or Check only please. (Make checks payable to Riverchase Middle School)<br />\n- Entries received by Wednesday September 18th will receive RMS Boys Basketball T-shirt<br />\n- Light appetizers will be served after the tournament<br />\n- Contact Coach Byars at <a href="mailto:b2byars@shelbyed.k12.al.us">b2byars@shelbyed.k12.al.us</a> or 205-903-7530 to register or with any questions. Please provide your name\, Handicap/Avg. Score\, Cell Phone number and T-shirt size when registering.
LOCATION:Timberline Golf Course
UID:e.145.4720
SEQUENCE:3
DTSTAMP:20260424T051649Z
URL:https://business.shelbychamber.org/events/details/riverchase-middle-school-boys-basketball-golf-tournament-2013-09-28-2013-4720
END:VEVENT

END:VCALENDAR
