BEGIN:VCALENDAR
VERSION:2.0
PRODID:-//ChamberMaster//Event Calendar 2.0//EN
METHOD:PUBLISH
X-PUBLISHED-TTL:P3D
REFRESH-INTERVAL:P3D
CALSCALE:GREGORIAN
BEGIN:VEVENT
DTSTART:20140125T000000Z
DTEND:20140125T020000Z
X-MICROSOFT-CDO-ALLDAYEVENT:FALSE
SUMMARY:Robert Inman-The Governor's Lady
DESCRIPTION:Writer talk\, book signing and hors d'oeuvres reception. The novel draws on Inman's time as press secretary for Governor Lurleen Wallace.
X-ALT-DESC;FMTTYPE=text/html:Writer talk\, book signing and hors d&#39\;oeuvres reception. The novel draws on Inman&#39\;s time as press secretary for Governor Lurleen Wallace.
LOCATION:Shelby County Arts Council
UID:e.145.4918
SEQUENCE:3
DTSTAMP:20260423T225749Z
URL:https://business.shelbychamber.org/events/details/robert-inman-the-governor-s-lady-01-24-2014-4918
END:VEVENT

END:VCALENDAR
