BEGIN:VCALENDAR
VERSION:2.0
PRODID:-//ChamberMaster//Event Calendar 2.0//EN
METHOD:PUBLISH
X-PUBLISHED-TTL:P3D
REFRESH-INTERVAL:P3D
CALSCALE:GREGORIAN
BEGIN:VEVENT
DTSTART:20111109T003000Z
DTEND:20111109T023000Z
X-MICROSOFT-CDO-ALLDAYEVENT:FALSE
SUMMARY:Rocky Heights Outdoors - Hunting/Outdoors Meet-up
DESCRIPTION:If You're an Avid Hunter or Outdoors Person\nAn Informal After-Hours Event from 6:30-8:30pm at Rocky Heights Outdoors. RHO will be displaying many of their Hunting/Outdoors books and ideas for you. Why not turn all those pictures of your favorite hunt or event into a gift that will keep on giving year after year? This is going to be fun and interesting. This is a no cost event and we welcome individuals and businesses. Address is 206 Oak Mountain Circle Pelham\, AL 35124\, (205) 408-1198. \n\n\n\nSo come out on the 8th for a fun\, informal gathering to talk to new people who like to hunt and the outdoors!
X-ALT-DESC;FMTTYPE=text/html:<h3 class="groups" style="margin-top: 0px\; margin-right: 0px\; margin-bottom: 0px\; margin-left: 0px\; padding-top: 0px\; padding-right: 0px\; padding-bottom: 0px\; padding-left: 0px\; border-top-width: 0px\; border-right-width: 0px\; border-bottom-width: 0px\; border-left-width: 0px\; border-style: initial\; border-color: initial\; outline-width: 0px\; outline-style: initial\; outline-color: initial\; font-weight: inherit\; font-size: 16px\; font-family: Arial\, Helvetica\, 'Nimbus Sans L'\, sans-serif\; vertical-align: baseline\; -webkit-text-size-adjust: none\; color: rgb(51\, 51\, 51)\; ">\n	If You&#39\;re an Avid Hunter or Outdoors Person</h3>\n<span class="Apple-style-span" style="color: rgb(0\, 0\, 0)\; font-family: 'lucida grande'\, tahoma\, verdana\, arial\, sans-serif\; font-size: 11px\; line-height: 14px\; ">An Informal After-Hours Event from 6:30-8:30pm at Rocky Heights Outdoors.&nbsp\;</span><span class="Apple-style-span" style="color: rgb(0\, 0\, 0)\; font-family: 'lucida grande'\, tahoma\, verdana\, arial\, sans-serif\; font-size: 11px\; line-height: 14px\; ">RHO will be displaying many of their Hunting/Outdoors books and ideas for you. Why not turn all those pictures of your favorite hunt or event into a gift that will keep on giving year after year? This is going to be fun and interesting.&nbsp\;</span><span class="Apple-style-span" style="color: rgb(0\, 0\, 0)\; font-family: 'lucida grande'\, tahoma\, verdana\, arial\, sans-serif\; font-size: 11px\; line-height: 14px\; ">This is a no cost event and we welcome individuals and businesses.&nbsp\;</span><span class="Apple-style-span" style="color: rgb(0\, 0\, 0)\; font-family: 'lucida grande'\, tahoma\, verdana\, arial\, sans-serif\; font-size: 11px\; line-height: 14px\; ">Address is 206 Oak Mountain Circle Pelham\, AL 35124\,&nbsp\;</span><span class="Apple-style-span" style="text-align: left\; "><font class="Apple-style-span" color="#000000" face="'lucida grande'\, tahoma\, verdana\, arial\, sans-serif"><span class="Apple-style-span" style="font-size: 11px\; line-height: 14px\; ">(205) 408-1198.&nbsp\;</span></font></span><br />\n<br />\n<span class="Apple-style-span" style="color: rgb(0\, 0\, 0)\; font-family: 'lucida grande'\, tahoma\, verdana\, arial\, sans-serif\; font-size: 11px\; line-height: 14px\; ">So come out on the 8th for a fun\, informal gathering to talk&nbsp\;</span><span class="Apple-style-span" style="color: rgb(0\, 0\, 0)\; font-family: 'lucida grande'\, tahoma\, verdana\, arial\, sans-serif\; font-size: 11px\; line-height: 14px\; ">to new people who like to hunt and the outdoors!</span><br />\n<br />\n<br />\n<br />
LOCATION:206 Oak Mountain Circle\, Pelham\, AL 35124
UID:e.145.3546
SEQUENCE:3
DTSTAMP:20260425T170552Z
URL:https://business.shelbychamber.org/events/details/rocky-heights-outdoors-hunting-outdoors-meet-up-11-08-2011-3546
END:VEVENT

END:VCALENDAR
