BEGIN:VCALENDAR
VERSION:2.0
PRODID:-//ChamberMaster//Event Calendar 2.0//EN
METHOD:PUBLISH
X-PUBLISHED-TTL:P3D
REFRESH-INTERVAL:P3D
CALSCALE:GREGORIAN
BEGIN:VEVENT
DTSTART;VALUE=DATE:20120920
DTEND;VALUE=DATE:20120921
TRANSP:TRANSPARENT
X-MICROSOFT-CDO-ALLDAYEVENT:TRUE
SUMMARY:Ruby Tuesday's Community Give Back Program
DESCRIPTION:Ruby Tuesday is extremely proud to be part of your hometown\n\n	and believes in giving back. As a fellow member of the community\,\n\n	we invite you to participate in...\n\n	Ruby Tuesday's Community GiveBack Program.\n\n	Enjoy a meal with us\n\n	100% of the Giv eBack amoun t is dona ted dir ectly t o y our or ganization.\n\n	615 Cahaba Valley Rd\, Pelham\, AL\n\n	Organization's Name: University of Montevallo Women's Basketball\n\n	Event Name: Ruby Tuesday's Community Give Back\n\n	Date of Visit: September 20\, 2012\n\n	For directions to the restaurant or a peek a t the menu\,\n\n	visit rubytuesday.com\n\n	Grab your family and friends and join\n\n	us at the Business Park Drive location on\n\n	on September 20\, 2012 . Please present\n\n	this flyer to your server\, and we will\n\n	give back 20% of your purchase to the organization.\n\n	To make a reservation\, call us at or visit us online at rubytuesday.
X-ALT-DESC;FMTTYPE=text/html:<p align="left">\n	<span style="font-size:12px\;"><font face="Gotham-Book">Ruby Tuesday is extremely proud to be part of your hometown</font></span></p>\n<p align="left">\n	<span style="font-size:12px\;"><font face="Gotham-Book">and believes in giving back. As a fellow member of the community\,</font></span></p>\n<p align="left">\n	<span style="font-size:12px\;"><font face="Gotham-Book">we invite you to participate in...</font></span></p>\n<p align="left">\n	<span style="font-size:12px\;"><b><font face="Clarendon-Bold"><font face="Clarendon-Bold">Ruby Tuesday&rsquo\;s Community </font></font><font color="#cd0003" face="Clarendon-Bold"><font color="#cd0003" face="Clarendon-Bold"><font color="#cd0003" face="Clarendon-Bold">GiveBack </font></font></font><font face="Clarendon-Bold"><font face="Clarendon-Bold">Program.</font></font></b></span></p>\n<p align="left">\n	<span style="font-size:12px\;"><font face="Gotham-Black"><font face="Gotham-Black">Enjoy a meal with us</font></font></span></p>\n<p align="left">\n	<span style="font-size:12px\;"><font color="#ffffff" face="GothamCondensed-Medium"><font color="#ffffff" face="GothamCondensed-Medium"><font color="#ffffff" face="GothamCondensed-Medium">100% of the Giv eBack amoun t is dona ted dir ectly t o y our or ganization.</font></font></font></span></p>\n<p align="left">\n	<span style="font-size:12px\;"><font face="GothamCondensed-Medium">615 Cahaba Valley Rd\, Pelham\, AL<br />\n	Organization&rsquo\;s Name: University of Montevallo Women&#39\;s Basketball<br />\n	Event Name: Ruby Tuesday&#39\;s Community Give Back<br />\n	Date of Visit: September 20\, 2012</font></span></p>\n<p align="left">\n	<span style="font-size:12px\;"><font color="#cd0003" face="GothamCondensed-Medium"><font color="#cd0003" face="GothamCondensed-Medium">For directions to the restaurant or a peek a t the menu\,</font></font></span></p>\n<p align="left">\n	<span style="font-size:12px\;"><font color="#cd0003" face="GothamCondensed-Medium"><font color="#cd0003" face="GothamCondensed-Medium"><font color="#cd0003" face="GothamCondensed-Medium">visit rubytuesday.com</font></font></font></span></p>\n<p align="left">\n	<span style="font-size:12px\;"><font face="Gotham-Book">Grab your family and friends and join</font></span></p>\n<p align="left">\n	<span style="font-size:12px\;"><font face="Gotham-Book">us at the Business Park Drive location on</font></span></p>\n<p align="left">\n	<span style="font-size:12px\;"><font face="Gotham-Book">on&nbsp\;</font><font color="#cd0003" face="Gotham-Black"><font color="#cd0003" face="Gotham-Black">September 20\, 2012&nbsp\;</font></font><font face="Gotham-Book">. Please present</font></span></p>\n<p align="left">\n	<span style="font-size:12px\;"><font face="Gotham-Book">this flyer to your server\, and we will</font></span></p>\n<p align="left">\n	<span style="font-size:12px\;"><font face="Gotham-Book">give back </font><font color="#cd0003" face="Gotham-Black"><font color="#cd0003" face="Gotham-Black">20% </font></font><font face="Gotham-Book">of your purchase to the organization.</font></span></p>\n<p>\n	<span style="font-size:12px\;"><i><font face="Gotham-BookItalic"><font face="Gotham-BookItalic">To make a reservation\, call us at or visit us online at rubytuesday.</font></font></i></span></p>\n
LOCATION:615 Cahaba Valley Rd\, Pelham\, AL
UID:e.145.4358
SEQUENCE:3
DTSTAMP:20260425T010726Z
URL:https://business.shelbychamber.org/events/details/ruby-tuesday-s-community-give-back-program-09-20-2012-4358
END:VEVENT

END:VCALENDAR
