BEGIN:VCALENDAR
VERSION:2.0
PRODID:-//ChamberMaster//Event Calendar 2.0//EN
METHOD:PUBLISH
X-PUBLISHED-TTL:P3D
REFRESH-INTERVAL:P3D
CALSCALE:GREGORIAN
BEGIN:VEVENT
DTSTART;VALUE=DATE:20120825
DTEND;VALUE=DATE:20120826
TRANSP:TRANSPARENT
X-MICROSOFT-CDO-ALLDAYEVENT:TRUE
SUMMARY:Ruby Tuesday's Community GiveBack Program
DESCRIPTION:Ruby Tuesday is extremely proud to be part of your hometown and believes in giving back. As a fellow member of the community\, we invite you to participate in ...\n\n	Ruby Tuesday's Community GiveBack Program.\n\n	Enjoy a meal with us 100% of the GiveBack amount is donated directly to your organization.\n\n	789 Business Park Drive\, Prattville\, AL 36067\n\n	Organization's Name: Prattville High School Megaphone Booster Club\n\n	Event Name: August 30\, 2011\n\n	Date of Visit: August 30\, 2011\n\n	For directions to the restaurant or a peek a t the menu\, visit rubytuesday.com\n\n	Grab your family and friends and join us at the Business Park Drive location on on August 30\, 2011 . Please present this flyer to your server\, and we will give back 20% of your purchase to the organization.\n\n	To make a reservation\, call us at (205) 403-0003 or visit us online at rubytuesday.com
X-ALT-DESC;FMTTYPE=text/html:<p align="left">\n	<span style="font-size:10px\;"><font face="Gotham-Book">Ruby Tuesday is extremely proud to be part of your hometown and believes in giving back. As a fellow member of the community\, we invite you to participate in ...</font></span></p>\n<p align="left">\n	<span style="font-size:10px\;"><b><font face="Clarendon-Bold"><font face="Clarendon-Bold">Ruby Tuesday&rsquo\;s Community </font></font><font face="Clarendon-Bold"><font face="Clarendon-Bold"><font face="Clarendon-Bold">GiveBack </font></font></font><font face="Clarendon-Bold"><font face="Clarendon-Bold">Program.</font></font></b></span></p>\n<p align="left">\n	<span style="font-size:10px\;"><font face="GothamCondensed-Medium"><font face="GothamCondensed-Medium">Enjoy a meal with us <font face="GothamCondensed-Medium">100% of the GiveBack amount is donated directly to your organization.</font></font></font></span></p>\n<p align="left">\n	<span style="font-size:10px\;"><font face="GothamCondensed-Medium">789 Business Park Drive\, Prattville\, AL 36067</font></span></p>\n<p align="left">\n	<span style="font-size:10px\;"><font face="GothamCondensed-Medium">Organization&rsquo\;s Name: Prattville High School Megaphone Booster Club</font></span></p>\n<p align="left">\n	<span style="font-size:10px\;"><font face="GothamCondensed-Medium">Event Name: August 30\, 2011</font></span></p>\n<p align="left">\n	<span style="font-size:10px\;"><font face="GothamCondensed-Medium">Date of Visit: August 30\, 2011</font></span></p>\n<p align="left">\n	<span style="font-size:10px\;"><font face="GothamCondensed-Medium"><font face="GothamCondensed-Medium">For directions to the restaurant or a peek a t the menu\, <font face="GothamCondensed-Medium">visit rubytuesday.com</font></font></font></span></p>\n<p align="left">\n	<span style="font-size:10px\;"><font face="Gotham-Book">Grab your family and friends and join us at the Business Park Drive location on on </font><font face="Gotham-Black"><font face="Gotham-Black">August 30\, 2011 </font></font><font face="Gotham-Book">. Please present this flyer to your server\, and we will give back </font><font face="Gotham-Black"><font face="Gotham-Black">20% </font></font><font face="Gotham-Book">of your purchase to the organization.</font></span></p>\n<p>\n	<span style="font-size:10px\;"><i><font face="Gotham-BookItalic"><font face="Gotham-BookItalic">To make a reservation\, call us at (205) 403-0003&nbsp\;or visit us online at rubytuesday.com</font></font></i></span></p>\n
LOCATION:615 Cahaba Valley Rd\, Pelham\, AL
UID:e.145.4357
SEQUENCE:3
DTSTAMP:20260425T024334Z
URL:https://business.shelbychamber.org/events/details/ruby-tuesday-s-community-giveback-program-08-25-2012-4357
END:VEVENT

END:VCALENDAR
