BEGIN:VCALENDAR
VERSION:2.0
PRODID:-//ChamberMaster//Event Calendar 2.0//EN
METHOD:PUBLISH
X-PUBLISHED-TTL:P3D
REFRESH-INTERVAL:P3D
CALSCALE:GREGORIAN
BEGIN:VEVENT
DTSTART;VALUE=DATE:20120920
DTEND;VALUE=DATE:20120921
TRANSP:TRANSPARENT
X-MICROSOFT-CDO-ALLDAYEVENT:TRUE
SUMMARY:Ruby Tuesday's Community GiveBack Program: Support Women's Basketball
DESCRIPTION:Ruby Tuesday's Community GiveBack Program to the University of Montevallo Women's Basketball Program.\n\n	\n\n	Grab your family and friends and join us at the 615 CAHABA VALLEY RD location on September 20\, 2012.  Please present this flyer to your server\, and we will give back 20% of your purchase to the organization.\n\n	\n\n	To make a reservation\, call us at (205) - 403-0003 or visit us online at rubytuesdays.com\n\n	\n\n	Organization's Name: University of Montevallo\n\n	Event Name: Support Women's Basketball\n\n	Date of Visit: September 20\, 2012\n\n	\n\n	Address: 615 CAHABA VALLEY RD\, Pelham\, AL
X-ALT-DESC;FMTTYPE=text/html:<p>\n	Ruby Tuesday&#39\;s Community GiveBack Program to the University of Montevallo Women&#39\;s Basketball Program.<br />\n	<br />\n	Grab your family and friends and join us at the 615 CAHABA VALLEY RD location on September 20\, 2012.&nbsp\; Please present this flyer to your server\, and we will give back 20% of your purchase to the organization.<br />\n	<br />\n	To make a reservation\, call us at (205) - 403-0003 or visit us online at rubytuesdays.com<br />\n	<br />\n	Organization&#39\;s Name: University of Montevallo<br />\n	Event Name: Support Women&#39\;s Basketball<br />\n	Date of Visit: September 20\, 2012<br />\n	<br />\n	Address: 615 CAHABA VALLEY RD\, Pelham\, AL</p>\n
LOCATION:Ruby Tuesday's 615 CAHABA VALLEY RD\, Pelham\, AL
UID:e.145.4382
SEQUENCE:3
DTSTAMP:20260425T010836Z
URL:https://business.shelbychamber.org/events/details/ruby-tuesday-s-community-giveback-program-support-women-s-basketball-09-20-2012-4382
END:VEVENT

END:VCALENDAR
