BEGIN:VCALENDAR
VERSION:2.0
PRODID:-//ChamberMaster//Event Calendar 2.0//EN
METHOD:PUBLISH
X-PUBLISHED-TTL:P3D
REFRESH-INTERVAL:P3D
CALSCALE:GREGORIAN
BEGIN:VEVENT
DTSTART:20130413T123000Z
DTEND:20130413T170000Z
X-MICROSOFT-CDO-ALLDAYEVENT:FALSE
SUMMARY:Run 4 Mike - 5K Run and 1 Mile Fun Run
DESCRIPTION:This event is to:\n\n	        Promote awareness\n\n	        Raise funds for Transverse Myelitis\n\n	        Research for a cure and prevention.\n\n	        All profits will go to spinal cord research and other causes at theUniversity of Alabama at Birminghamrelated to Transverse Myelitis such as MS.
X-ALT-DESC;FMTTYPE=text/html:<div style="color: rgb(52\, 53\, 52)\; font-family: Arial\; font-size: 13px\;">\n	<span class="text-class-16">This event is to:</span></div>\n<div style="color: rgb(52\, 53\, 52)\; font-family: Arial\; font-size: 13px\;">\n	<span class="text-class-16">&middot\;&nbsp\;&nbsp\;&nbsp\;&nbsp\;&nbsp\;&nbsp\;&nbsp\;<span class="text-class-3" style="font-style: italic\;"><u>Promote awareness</u></span></span></div>\n<div style="color: rgb(52\, 53\, 52)\; font-family: Arial\; font-size: 13px\;">\n	<span class="text-class-16">&middot\;&nbsp\;&nbsp\;&nbsp\;&nbsp\;&nbsp\;&nbsp\; Raise funds for Transverse Myelitis</span></div>\n<div style="color: rgb(52\, 53\, 52)\; font-family: Arial\; font-size: 13px\;">\n	<span class="text-class-16">&middot\;&nbsp\;&nbsp\;&nbsp\;&nbsp\;&nbsp\;&nbsp\; Research for a&nbsp\;<u><span class="text-class-3" style="font-style: italic\;">cure and prevention</span></u>.</span></div>\n<div style="color: rgb(52\, 53\, 52)\; font-family: Arial\; font-size: 13px\;">\n	<span class="text-class-16">&middot\;&nbsp\;&nbsp\;&nbsp\;&nbsp\;&nbsp\;&nbsp\; All profits will go to&nbsp\;<u><span class="text-class-3" style="font-style: italic\;">spinal cord research</span></u>&nbsp\;and other causes at the<span class="text-class-11" style="font-weight: bold\;">University</span><span class="text-class-11" style="font-weight: bold\;"> of Alabama at Birmingham</span>related to Transverse Myelitis such as MS.</span></div>\n
LOCATION:Veteran's Park - Alabaster
UID:e.145.4548
SEQUENCE:3
DTSTAMP:20260424T134531Z
URL:https://business.shelbychamber.org/events/details/run-4-mike-5k-run-and-1-mile-fun-run-04-13-2013-4548
END:VEVENT

END:VCALENDAR
