BEGIN:VCALENDAR
VERSION:2.0
PRODID:-//ChamberMaster//Event Calendar 2.0//EN
METHOD:PUBLISH
X-PUBLISHED-TTL:P3D
REFRESH-INTERVAL:P3D
CALSCALE:GREGORIAN
BEGIN:VEVENT
DTSTART:20110709T123000Z
DTEND:20110709T150000Z
X-MICROSOFT-CDO-ALLDAYEVENT:FALSE
SUMMARY:Run for Shelter Family Connection 5K and 1 Mile Fun Run
DESCRIPTION:Help us give youth a safe place to run for shelter! The fun run will start after the 5K finishes\, so bring your whole family and enjoy a great morning of fun to support Family Connection's services for at-risk\, runaway and homeless children and youth. Door prizes will be awarded and there will be prizes for overall male and female winners and medals for winners of different age categories. T-shirts guaranteed for pre-registered participants. T-shirts are available first come-first serve for day-of registrants.
X-ALT-DESC;FMTTYPE=text/html:Help us give youth a safe place to run for shelter! The fun run will start after the 5K finishes\, so bring your whole family and enjoy a great morning of fun to support Family Connection's services for at-risk\, runaway and homeless children and youth. Door prizes will be awarded and there will be prizes for overall male and female winners and medals for winners of different age categories. T-shirts guaranteed for pre-registered participants. T-shirts are available first come-first serve for day-of registrants.
LOCATION:Colonial Promenade Alabaster\; Race starts at Westwood Baptist Church
UID:e.145.3262
SEQUENCE:3
DTSTAMP:20260425T232507Z
URL:https://business.shelbychamber.org/events/details/run-for-shelter-family-connection-5k-and-1-mile-fun-run-07-09-2011-3262
END:VEVENT

END:VCALENDAR
