BEGIN:VCALENDAR
VERSION:2.0
PRODID:-//ChamberMaster//Event Calendar 2.0//EN
METHOD:PUBLISH
X-PUBLISHED-TTL:P3D
REFRESH-INTERVAL:P3D
CALSCALE:GREGORIAN
BEGIN:VEVENT
DTSTART:20140713T010000Z
DTEND:20140713T030000Z
X-MICROSOFT-CDO-ALLDAYEVENT:FALSE
SUMMARY:Russell Gulley Performance
DESCRIPTION:Muscle Shoals music veteran Russell Gulley takes the stage at the Shelby County Arts Council performing arts venue. You won't want to miss this folk legend!
X-ALT-DESC;FMTTYPE=text/html:Muscle Shoals music veteran Russell Gulley takes the stage at the Shelby County Arts Council performing arts venue. You won&#39\;t want to miss this folk legend!
LOCATION:Shelby County Arts Council performance venue.
UID:e.145.5513
SEQUENCE:3
DTSTAMP:20260423T133345Z
URL:https://business.shelbychamber.org/events/details/russell-gulley-performance-07-12-2014-5513
END:VEVENT

END:VCALENDAR
