BEGIN:VCALENDAR
VERSION:2.0
PRODID:-//ChamberMaster//Event Calendar 2.0//EN
METHOD:PUBLISH
X-PUBLISHED-TTL:P3D
REFRESH-INTERVAL:P3D
CALSCALE:GREGORIAN
BEGIN:VEVENT
DTSTART:20130829T140000Z
DTEND:20130829T190000Z
X-MICROSOFT-CDO-ALLDAYEVENT:FALSE
SUMMARY:Ruth Barnes Memorial Golf Tournament to Benefit Owens House & Easter Seals
DESCRIPTION:Shelby County Fraternal Order of Police Lodge 41 \n	\n		Presents the \n	\n		9th Annual Ruth Barnes Memorial \n	\n		Golf Tournament \n	\n		Benefiting: \n	\n		OWENS HOUSE  &  EASTER SEALS \n	\n		Ballantrae Golf Club \n	\n		Thursday August 29\, 2013 \n	\n		9am Shotgun Start \n	\n		 \n\n		Closest to the Pin & Long Drive Prizes \n	\n		 Mulligan Packages \n	\n		 Barbecue Lunch \n	\n		 Door Prizes \n	\n		\n\n		For More Information visit www.shelbyfop.com or \n	\n		E-mail Ryan Shivers at rshivers@shelbyfop.com \n	\n		Or call him at 205-563-5068 \n	\n		\n\n		Player/Registration ($100/Player\, $400/Team)
X-ALT-DESC;FMTTYPE=text/html:<div style="text-align: center\;">\n	<p align="LEFT">\n		&nbsp\;</p>\n	<p>\n		<span style="font-size: 12px\;"><b>Shelby County Fraternal Order of Police Lodge 41 </b></span></p>\n	<p>\n		<span style="font-size: 12px\;"><b>Presents the </b></span></p>\n	<p style="color: red\;">\n		<span style="font-size: 12px\;"><b>9th Annual Ruth Barnes Memorial </b></span></p>\n	<p style="color: red\;">\n		<span style="font-size: 12px\;"><b>Golf Tournament </b></span></p>\n	<p>\n		<span style="font-size: 12px\;"><b><i><font face="Cambria\,Cambria"><font face="Cambria\,Cambria">Benefiting: </font></font></i></b></span></p>\n	<p style="color: blue\;">\n		<strong><span style="font-size: 12px\;"><font face="Cambria\,Cambria"><font face="Cambria\,Cambria">OWENS HOUSE &nbsp\;&amp\;&nbsp\; EASTER SEALS&nbsp\;</font></font></span></strong></p>\n	<p>\n		<span style="font-size: 12px\;"><b>Ballantrae Golf Club </b></span></p>\n	<p>\n		<span style="font-size: 12px\;"><b>Thursday August 29\, 2013 </b></span></p>\n	<p>\n		<span style="font-size: 12px\;"><b>9am Shotgun Start </b></span></p>\n	<p>\n		<span style="font-size: 12px\;">&nbsp\;<br />\n		<b>Closest to the Pin &amp\; Long Drive Prizes </b></span></p>\n	<p>\n		<span style="font-size: 12px\;">&nbsp\;<b>Mulligan Packages </b></span></p>\n	<p>\n		<span style="font-size: 12px\;">&nbsp\;<b>Barbecue Lunch </b></span></p>\n	<p>\n		<span style="font-size: 12px\;">&nbsp\;<b>Door Prizes </b></span></p>\n	<p>\n		<br />\n		<span style="font-size: 12px\;"><b><i><font face="Cambria\,Cambria"><font face="Cambria\,Cambria">For More Information visit www.shelbyfop.com or </font></font></i></b></span></p>\n	<p>\n		<span style="font-size: 12px\;"><b><i><font face="Cambria\,Cambria"><font face="Cambria\,Cambria">E-mail Ryan Shivers at rshivers@shelbyfop.com </font></font></i></b></span></p>\n	<p>\n		<span style="font-size: 12px\;"><b><i><font face="Cambria\,Cambria"><font face="Cambria\,Cambria">Or call him at 205-563-5068 </font></font></i></b></span></p>\n	<p>\n		<br />\n		<span style="font-size: 12px\;"><b>Player/Registration ($100/Player\, $400/Team) </b></span></p>\n	<p>\n		<span style="font-size: 12px\;"><font face="Cambria\,Cambria"><font face="Cambria\,Cambria">&nbsp\;</font></font></span></p>\n</div>\n
LOCATION:Ballentrae Golf Club
UID:e.145.4717
SEQUENCE:3
DTSTAMP:20260424T065850Z
URL:https://business.shelbychamber.org/events/details/ruth-barnes-memorial-golf-tournament-to-benefit-owens-house-easter-seals-08-29-2013-4717
END:VEVENT

END:VCALENDAR
