BEGIN:VCALENDAR
VERSION:2.0
PRODID:-//ChamberMaster//Event Calendar 2.0//EN
METHOD:PUBLISH
X-PUBLISHED-TTL:P3D
REFRESH-INTERVAL:P3D
CALSCALE:GREGORIAN
BEGIN:VEVENT
DTSTART:20120818T130000Z
DTEND:20120818T170000Z
X-MICROSOFT-CDO-ALLDAYEVENT:FALSE
SUMMARY:SafeHouse's 2nd Annual Walk A Mile In Her Shoes
DESCRIPTION:Domestic and sexual violence do not just affect women. Violence against women affects the men who care about them\, their families\, their friends\, their coworkers\, and their communities. Sexualized violence is epidemic. Every two minutes someone in America is raped. One in six American women are victims of sexual assault. One in four women will be a victim of domestic violence in her lifetime. That means someone you know\, someone you care about\, has been or may become the victim of domestic and/or sexual violence. It may be your mother\, your sister\, your friend\, your girlfriend\, your wife\, your coworker\, or your daughter.\n\n\n\nWalk a Mile in Her Shoes with SafeHouse to raise awareness of domestic and sexual violence and the need for men to send strong messages to other men and boys that violence against women must be stopped.\n\n\n\nFor more information\, visit www.walkamilesafehouse.org.
X-ALT-DESC;FMTTYPE=text/html:Domestic and sexual violence do not just affect women. Violence against women affects the men who care about them\, their families\, their friends\, their coworkers\, and their communities. Sexualized violence is epidemic. Every two minutes someone in America is raped. One in six American women are victims of sexual assault. One in four women will be a victim of domestic violence in her lifetime. That means someone you know\, someone you care about\, has been or may become the victim of domestic and/or sexual violence. It may be your mother\, your sister\, your friend\, your girlfriend\, your wife\, your coworker\, or your daughter.<br />\n<br />\nWalk a Mile in Her Shoes with SafeHouse to raise awareness of domestic and sexual violence and the need for men to send strong messages to other men and boys that violence against women must be stopped.<br />\n<br />\nFor more information\, visit www.walkamilesafehouse.org. 
LOCATION:Veteran's Park - Hoover\, AL
UID:e.145.4239
SEQUENCE:3
DTSTAMP:20260425T025025Z
URL:https://business.shelbychamber.org/events/details/safehouse-s-2nd-annual-walk-a-mile-in-her-shoes-08-18-2012-4239
END:VEVENT

END:VCALENDAR
