BEGIN:VCALENDAR
VERSION:2.0
PRODID:-//ChamberMaster//Event Calendar 2.0//EN
METHOD:PUBLISH
X-PUBLISHED-TTL:P3D
REFRESH-INTERVAL:P3D
CALSCALE:GREGORIAN
BEGIN:VEVENT
DTSTART:20150205T220000Z
DTEND:20150205T230000Z
X-MICROSOFT-CDO-ALLDAYEVENT:FALSE
SUMMARY:Salon Alisel and Kids
DESCRIPTION:We will be celebrating the Grand Opening of this adorable Kid's salon! Come check out the unique experience at this neat salon.
X-ALT-DESC;FMTTYPE=text/html:We will be celebrating the Grand Opening of this adorable Kid&#39\;s salon! Come check out the unique experience at this neat salon.
LOCATION:They are located at 1240 1st Street North Alabaster 35007. They are located in the Jessup building.
UID:e.145.6627
SEQUENCE:3
DTSTAMP:20260423T034612Z
URL:https://business.shelbychamber.org/events/details/salon-alisel-and-kids-02-05-2015-6627
END:VEVENT

END:VCALENDAR
