BEGIN:VCALENDAR
VERSION:2.0
PRODID:-//ChamberMaster//Event Calendar 2.0//EN
METHOD:PUBLISH
X-PUBLISHED-TTL:P3D
REFRESH-INTERVAL:P3D
CALSCALE:GREGORIAN
BEGIN:VEVENT
DTSTART:20170305T010000Z
DTEND:20170305T040000Z
X-MICROSOFT-CDO-ALLDAYEVENT:FALSE
SUMMARY:Sam Fraiser and Danny Brooks: Two Legends\, One Stage
DESCRIPTION:The Blues are at the very core of these two legendary music makers: one from Texas and one from Alabama. An evening of soul searching\, story telling music at the SCAC Black Box Theater. Doors open at 7\, with an hors d'oeuvres and wine reception\, and music starts at 7:30. Tickets are $20\, with reserved seating available for SCAC members. Come enjoy live blues with us!
X-ALT-DESC;FMTTYPE=text/html:The Blues are at the very core of these two legendary music makers: one from Texas and one from Alabama. An evening of soul searching\, story telling music at the SCAC Black Box Theater. Doors open at 7\, with an hors d&#39\;oeuvres and wine reception\, and music starts at 7:30. Tickets are $20\, with reserved seating available for SCAC members. Come enjoy live blues with us!
LOCATION:The concert will be held in the Black Box Theater of the Shelby County Arts Council\, located at 104 Mildred Street\, Columbiana\, AL 35051. We're just off the Main Street traffic circle.
UID:e.145.10503
SEQUENCE:3
DTSTAMP:20260421T084942Z
URL:https://business.shelbychamber.org/events/details/sam-fraiser-and-danny-brooks-two-legends-one-stage-10503
END:VEVENT

END:VCALENDAR
